BEGIN:VCALENDAR
VERSION:2.0
PRODID:-//Pointe Orlando - ECPv6.15.17//NONSGML v1.0//EN
CALSCALE:GREGORIAN
METHOD:PUBLISH
X-WR-CALNAME:Pointe Orlando
X-ORIGINAL-URL:https://orlando.bluemartini.com
X-WR-CALDESC:Events for Pointe Orlando
REFRESH-INTERVAL;VALUE=DURATION:PT1H
X-Robots-Tag:noindex
X-PUBLISHED-TTL:PT1H
BEGIN:VTIMEZONE
TZID:America/New_York
BEGIN:DAYLIGHT
TZOFFSETFROM:-0500
TZOFFSETTO:-0400
TZNAME:EDT
DTSTART:20240310T070000
END:DAYLIGHT
BEGIN:STANDARD
TZOFFSETFROM:-0400
TZOFFSETTO:-0500
TZNAME:EST
DTSTART:20241103T060000
END:STANDARD
BEGIN:DAYLIGHT
TZOFFSETFROM:-0500
TZOFFSETTO:-0400
TZNAME:EDT
DTSTART:20250309T070000
END:DAYLIGHT
BEGIN:STANDARD
TZOFFSETFROM:-0400
TZOFFSETTO:-0500
TZNAME:EST
DTSTART:20251102T060000
END:STANDARD
BEGIN:DAYLIGHT
TZOFFSETFROM:-0500
TZOFFSETTO:-0400
TZNAME:EDT
DTSTART:20260308T070000
END:DAYLIGHT
BEGIN:STANDARD
TZOFFSETFROM:-0400
TZOFFSETTO:-0500
TZNAME:EST
DTSTART:20261101T060000
END:STANDARD
END:VTIMEZONE
BEGIN:VEVENT
DTSTART;TZID=America/New_York:20251201T180000
DTEND;TZID=America/New_York:20251202T020000
DTSTAMP:20260421T102232
CREATED:20240912T215732Z
LAST-MODIFIED:20241118T205904Z
UID:10004060-1764612000-1764640800@orlando.bluemartini.com
SUMMARY:LOCAL & LIVE MONDAYS
DESCRIPTION:HAPPY HOUR 6-8PM \n8:00-2:00 ALL LOCALS CARD HOLDERS RECEIVE 30% OFF ENTIRE MARTINI LIST\, SELECT LIQUORS\, HOUSE WINE\, BEER\, FOOD AND HOOKAH\n*DISCOUNT APPLIES TO ORIGINAL HOOKAH ONLY\, NO DISCOUNTS ON REFILLS \nBOTTLE SPECIALS: $125 TITOS\, $125 TEREMANA BLANCO & REPOSADO\n*THESE ARE LOCALS SPECIALS\, DOES NOT APPLY TO CONVENTIONS \nENTERTAINMENT: DJ IN BOOTH 10:00-2:00.
URL:https://orlando.bluemartini.com/event/local-live-mondays/2025-12-01/
LOCATION:Blue Martini – Orlando\, 9101 International Dr #1182\, Orlando\, FL\, 32819\, United States
ATTACH;FMTTYPE=image/jpeg:https://orlando.bluemartini.com/wp-content/uploads/sites/4/2024/09/MON-FLYER.jpg
GEO:28.43239;-81.47023
X-APPLE-STRUCTURED-LOCATION;VALUE=URI;X-ADDRESS=Blue Martini – Orlando 9101 International Dr #1182 Orlando FL 32819 United States;X-APPLE-RADIUS=500;X-TITLE=9101 International Dr #1182:geo:-81.47023,28.43239
END:VEVENT
BEGIN:VEVENT
DTSTART;TZID=America/New_York:20251203T180000
DTEND;TZID=America/New_York:20251204T020000
DTSTAMP:20260421T102232
CREATED:20241118T211511Z
LAST-MODIFIED:20241118T211511Z
UID:10004324-1764784800-1764813600@orlando.bluemartini.com
SUMMARY:WINE DOWN / SIN WEDNESDAYS – SERVICE INDUSTRY & LADIES NIGHT
DESCRIPTION:HAPPY HOUR 6-8PM \nWINE DOWN: 6-8PM\nDRINK SPECIALS: $5 GLASSES OF HOUSE WINE AND CHAMPAGNE\nBOTTLE SPECIALS: HALF OFF SELECT WINE BOTTLES.\nKJ CHARD\, ECCO\, WHITEHAVEN\, BEX\, ALLASEA\, J LOHR\, MEIOMI\, KJ MERLOT \nSIN NIGHT: 8PM-2AM\nDRINK SPECIALS: SERVICE INDUSTRY & LADIES RECEIVE 50% OFF ENTIRE MARTINI LIST\, SELECT LIQUORS\, HOUSE WINE\, BEER\, FOOD AND HOOKAH\n*DISCOUNT APPLIES TO ORIGINAL HOOKAH ONLY\, NO DISCOUNTS ON REFILLS\nBOTTLE SPECIALS: $150 KETEL ONE\, $150 LALO TEQUILA\, $100 MOET IMPERIAL\n*THESE ARE LOCALS SPECIALS\, DOES NOT APPLY TO CONVENTIONS\nENTERTAINMENT: 2 PIECE BAND ON STAGE 8:00-11:00. DJ ON STAGE 11:00-2:00.
URL:https://orlando.bluemartini.com/event/wine-down-sin-wednesdays-service-industry-ladies-night/2025-12-03/
LOCATION:Blue Martini – Orlando\, 9101 International Dr #1182\, Orlando\, FL\, 32819\, United States
ATTACH;FMTTYPE=image/jpeg:https://orlando.bluemartini.com/wp-content/uploads/sites/4/2024/09/WED-FLYER.jpg
GEO:28.43239;-81.47023
X-APPLE-STRUCTURED-LOCATION;VALUE=URI;X-ADDRESS=Blue Martini – Orlando 9101 International Dr #1182 Orlando FL 32819 United States;X-APPLE-RADIUS=500;X-TITLE=9101 International Dr #1182:geo:-81.47023,28.43239
END:VEVENT
BEGIN:VEVENT
DTSTART;VALUE=DATE:20251204
DTEND;VALUE=DATE:20251205
DTSTAMP:20260421T102232
CREATED:20250114T195853Z
LAST-MODIFIED:20250505T232258Z
UID:10005227-1764806400-1764892799@orlando.bluemartini.com
SUMMARY:DJ OSSY
DESCRIPTION:
URL:https://orlando.bluemartini.com/event/dj-ossy/2025-12-04/
LOCATION:Blue Martini – Orlando\, 9101 International Dr #1182\, Orlando\, FL\, 32819\, United States
ORGANIZER;CN="Blue Martini":MAILTO:Victorv@bluemartini.com
GEO:28.43239;-81.47023
X-APPLE-STRUCTURED-LOCATION;VALUE=URI;X-ADDRESS=Blue Martini – Orlando 9101 International Dr #1182 Orlando FL 32819 United States;X-APPLE-RADIUS=500;X-TITLE=9101 International Dr #1182:geo:-81.47023,28.43239
END:VEVENT
BEGIN:VEVENT
DTSTART;VALUE=DATE:20251204
DTEND;VALUE=DATE:20251206
DTSTAMP:20260421T102232
CREATED:20250228T230525Z
LAST-MODIFIED:20250505T232208Z
UID:10004965-1764806400-1764979199@orlando.bluemartini.com
SUMMARY:DJ ANTHONY
DESCRIPTION:
URL:https://orlando.bluemartini.com/event/dj-anthony/2025-12-04/
LOCATION:Blue Martini – Orlando\, 9101 International Dr #1182\, Orlando\, FL\, 32819\, United States
ORGANIZER;CN="Blue Martini":MAILTO:Victorv@bluemartini.com
GEO:28.43239;-81.47023
X-APPLE-STRUCTURED-LOCATION;VALUE=URI;X-ADDRESS=Blue Martini – Orlando 9101 International Dr #1182 Orlando FL 32819 United States;X-APPLE-RADIUS=500;X-TITLE=9101 International Dr #1182:geo:-81.47023,28.43239
END:VEVENT
BEGIN:VEVENT
DTSTART;TZID=America/New_York:20251204T180000
DTEND;TZID=America/New_York:20251205T020000
DTSTAMP:20260421T102232
CREATED:20241118T212246Z
LAST-MODIFIED:20241118T212247Z
UID:10004585-1764871200-1764900000@orlando.bluemartini.com
SUMMARY:LATIN NIGHT
DESCRIPTION:HAPPY HOUR 6-8PM \nBOTTLE SPECIALS BEFORE 11PM ONLY: $200 BUCHANANS\, DON JULIO BLANCO\, TITOS AND SANTA TERESA RUM\nBOTTLE SPECIALS ALL NIGHT: $150 BACARDI\, $200 TEREMANA REPOSADO\, $250 TITOS\, $275 JWB \nCOVER CHARGE: $10 FOR LADIES\, $15 FOR MEN 8:00-11:00. $15 FOR LADIES AND MEN 11:00-1:00 (UNLESS OTHERWISE INSTRUCTED BY MANAGEMENT) \nENTERTAINMENT: BAND ON STAGE 7-11. DJ OSSY ON STAGE 11:30-2.
URL:https://orlando.bluemartini.com/event/latin-night/2025-12-04/
LOCATION:Blue Martini – Orlando\, 9101 International Dr #1182\, Orlando\, FL\, 32819\, United States
GEO:28.43239;-81.47023
X-APPLE-STRUCTURED-LOCATION;VALUE=URI;X-ADDRESS=Blue Martini – Orlando 9101 International Dr #1182 Orlando FL 32819 United States;X-APPLE-RADIUS=500;X-TITLE=9101 International Dr #1182:geo:-81.47023,28.43239
END:VEVENT
BEGIN:VEVENT
DTSTART;TZID=America/New_York:20251204T190000
DTEND;TZID=America/New_York:20251204T230000
DTSTAMP:20260421T102232
CREATED:20250114T194821Z
LAST-MODIFIED:20260126T190647Z
UID:10005554-1764874800-1764889200@orlando.bluemartini.com
SUMMARY:Sol Caribe
DESCRIPTION:
URL:https://orlando.bluemartini.com/event/sol-caribe-2/2025-12-04/
LOCATION:Blue Martini – Orlando\, 9101 International Dr #1182\, Orlando\, FL\, 32819\, United States
ORGANIZER;CN="Blue Martini":MAILTO:Victorv@bluemartini.com
GEO:28.43239;-81.47023
X-APPLE-STRUCTURED-LOCATION;VALUE=URI;X-ADDRESS=Blue Martini – Orlando 9101 International Dr #1182 Orlando FL 32819 United States;X-APPLE-RADIUS=500;X-TITLE=9101 International Dr #1182:geo:-81.47023,28.43239
END:VEVENT
BEGIN:VEVENT
DTSTART;TZID=America/New_York:20251206T200000
DTEND;TZID=America/New_York:20251206T230000
DTSTAMP:20260421T102232
CREATED:20250616T212619Z
LAST-MODIFIED:20260126T183907Z
UID:10005555-1765051200-1765062000@orlando.bluemartini.com
SUMMARY:VZN Trio
DESCRIPTION:
URL:https://orlando.bluemartini.com/event/vzn-trio-3/2025-12-06/
LOCATION:Blue Martini – Orlando\, 9101 International Dr #1182\, Orlando\, FL\, 32819\, United States
ORGANIZER;CN="Blue Martini":MAILTO:Victorv@bluemartini.com
GEO:28.43239;-81.47023
X-APPLE-STRUCTURED-LOCATION;VALUE=URI;X-ADDRESS=Blue Martini – Orlando 9101 International Dr #1182 Orlando FL 32819 United States;X-APPLE-RADIUS=500;X-TITLE=9101 International Dr #1182:geo:-81.47023,28.43239
END:VEVENT
BEGIN:VEVENT
DTSTART;TZID=America/New_York:20251208T180000
DTEND;TZID=America/New_York:20251209T020000
DTSTAMP:20260421T102232
CREATED:20240912T215732Z
LAST-MODIFIED:20241118T205904Z
UID:10004061-1765216800-1765245600@orlando.bluemartini.com
SUMMARY:LOCAL & LIVE MONDAYS
DESCRIPTION:HAPPY HOUR 6-8PM \n8:00-2:00 ALL LOCALS CARD HOLDERS RECEIVE 30% OFF ENTIRE MARTINI LIST\, SELECT LIQUORS\, HOUSE WINE\, BEER\, FOOD AND HOOKAH\n*DISCOUNT APPLIES TO ORIGINAL HOOKAH ONLY\, NO DISCOUNTS ON REFILLS \nBOTTLE SPECIALS: $125 TITOS\, $125 TEREMANA BLANCO & REPOSADO\n*THESE ARE LOCALS SPECIALS\, DOES NOT APPLY TO CONVENTIONS \nENTERTAINMENT: DJ IN BOOTH 10:00-2:00.
URL:https://orlando.bluemartini.com/event/local-live-mondays/2025-12-08/
LOCATION:Blue Martini – Orlando\, 9101 International Dr #1182\, Orlando\, FL\, 32819\, United States
ATTACH;FMTTYPE=image/jpeg:https://orlando.bluemartini.com/wp-content/uploads/sites/4/2024/09/MON-FLYER.jpg
GEO:28.43239;-81.47023
X-APPLE-STRUCTURED-LOCATION;VALUE=URI;X-ADDRESS=Blue Martini – Orlando 9101 International Dr #1182 Orlando FL 32819 United States;X-APPLE-RADIUS=500;X-TITLE=9101 International Dr #1182:geo:-81.47023,28.43239
END:VEVENT
BEGIN:VEVENT
DTSTART;TZID=America/New_York:20251210T180000
DTEND;TZID=America/New_York:20251211T020000
DTSTAMP:20260421T102232
CREATED:20241118T211511Z
LAST-MODIFIED:20241118T211511Z
UID:10004325-1765389600-1765418400@orlando.bluemartini.com
SUMMARY:WINE DOWN / SIN WEDNESDAYS – SERVICE INDUSTRY & LADIES NIGHT
DESCRIPTION:HAPPY HOUR 6-8PM \nWINE DOWN: 6-8PM\nDRINK SPECIALS: $5 GLASSES OF HOUSE WINE AND CHAMPAGNE\nBOTTLE SPECIALS: HALF OFF SELECT WINE BOTTLES.\nKJ CHARD\, ECCO\, WHITEHAVEN\, BEX\, ALLASEA\, J LOHR\, MEIOMI\, KJ MERLOT \nSIN NIGHT: 8PM-2AM\nDRINK SPECIALS: SERVICE INDUSTRY & LADIES RECEIVE 50% OFF ENTIRE MARTINI LIST\, SELECT LIQUORS\, HOUSE WINE\, BEER\, FOOD AND HOOKAH\n*DISCOUNT APPLIES TO ORIGINAL HOOKAH ONLY\, NO DISCOUNTS ON REFILLS\nBOTTLE SPECIALS: $150 KETEL ONE\, $150 LALO TEQUILA\, $100 MOET IMPERIAL\n*THESE ARE LOCALS SPECIALS\, DOES NOT APPLY TO CONVENTIONS\nENTERTAINMENT: 2 PIECE BAND ON STAGE 8:00-11:00. DJ ON STAGE 11:00-2:00.
URL:https://orlando.bluemartini.com/event/wine-down-sin-wednesdays-service-industry-ladies-night/2025-12-10/
LOCATION:Blue Martini – Orlando\, 9101 International Dr #1182\, Orlando\, FL\, 32819\, United States
ATTACH;FMTTYPE=image/jpeg:https://orlando.bluemartini.com/wp-content/uploads/sites/4/2024/09/WED-FLYER.jpg
GEO:28.43239;-81.47023
X-APPLE-STRUCTURED-LOCATION;VALUE=URI;X-ADDRESS=Blue Martini – Orlando 9101 International Dr #1182 Orlando FL 32819 United States;X-APPLE-RADIUS=500;X-TITLE=9101 International Dr #1182:geo:-81.47023,28.43239
END:VEVENT
BEGIN:VEVENT
DTSTART;TZID=America/New_York:20251210T200000
DTEND;TZID=America/New_York:20251210T230000
DTSTAMP:20260421T102232
CREATED:20241118T212934Z
LAST-MODIFIED:20251121T214719Z
UID:10005558-1765396800-1765407600@orlando.bluemartini.com
SUMMARY:PACIFIC RUSH DUO
DESCRIPTION:
URL:https://orlando.bluemartini.com/event/pacific-rush-duo/2025-12-10/
LOCATION:Blue Martini – Orlando\, 9101 International Dr #1182\, Orlando\, FL\, 32819\, United States
ORGANIZER;CN="Blue Martini":MAILTO:Victorv@bluemartini.com
GEO:28.43239;-81.47023
X-APPLE-STRUCTURED-LOCATION;VALUE=URI;X-ADDRESS=Blue Martini – Orlando 9101 International Dr #1182 Orlando FL 32819 United States;X-APPLE-RADIUS=500;X-TITLE=9101 International Dr #1182:geo:-81.47023,28.43239
END:VEVENT
BEGIN:VEVENT
DTSTART;VALUE=DATE:20251211
DTEND;VALUE=DATE:20251212
DTSTAMP:20260421T102232
CREATED:20250114T195853Z
LAST-MODIFIED:20250505T232258Z
UID:10005228-1765411200-1765497599@orlando.bluemartini.com
SUMMARY:DJ OSSY
DESCRIPTION:
URL:https://orlando.bluemartini.com/event/dj-ossy/2025-12-11/
LOCATION:Blue Martini – Orlando\, 9101 International Dr #1182\, Orlando\, FL\, 32819\, United States
ORGANIZER;CN="Blue Martini":MAILTO:Victorv@bluemartini.com
GEO:28.43239;-81.47023
X-APPLE-STRUCTURED-LOCATION;VALUE=URI;X-ADDRESS=Blue Martini – Orlando 9101 International Dr #1182 Orlando FL 32819 United States;X-APPLE-RADIUS=500;X-TITLE=9101 International Dr #1182:geo:-81.47023,28.43239
END:VEVENT
BEGIN:VEVENT
DTSTART;VALUE=DATE:20251211
DTEND;VALUE=DATE:20251213
DTSTAMP:20260421T102232
CREATED:20250228T230525Z
LAST-MODIFIED:20250505T232208Z
UID:10004966-1765411200-1765583999@orlando.bluemartini.com
SUMMARY:DJ ANTHONY
DESCRIPTION:
URL:https://orlando.bluemartini.com/event/dj-anthony/2025-12-11/
LOCATION:Blue Martini – Orlando\, 9101 International Dr #1182\, Orlando\, FL\, 32819\, United States
ORGANIZER;CN="Blue Martini":MAILTO:Victorv@bluemartini.com
GEO:28.43239;-81.47023
X-APPLE-STRUCTURED-LOCATION;VALUE=URI;X-ADDRESS=Blue Martini – Orlando 9101 International Dr #1182 Orlando FL 32819 United States;X-APPLE-RADIUS=500;X-TITLE=9101 International Dr #1182:geo:-81.47023,28.43239
END:VEVENT
BEGIN:VEVENT
DTSTART;TZID=America/New_York:20251211T180000
DTEND;TZID=America/New_York:20251212T020000
DTSTAMP:20260421T102232
CREATED:20241118T212246Z
LAST-MODIFIED:20241118T212247Z
UID:10004586-1765476000-1765504800@orlando.bluemartini.com
SUMMARY:LATIN NIGHT
DESCRIPTION:HAPPY HOUR 6-8PM \nBOTTLE SPECIALS BEFORE 11PM ONLY: $200 BUCHANANS\, DON JULIO BLANCO\, TITOS AND SANTA TERESA RUM\nBOTTLE SPECIALS ALL NIGHT: $150 BACARDI\, $200 TEREMANA REPOSADO\, $250 TITOS\, $275 JWB \nCOVER CHARGE: $10 FOR LADIES\, $15 FOR MEN 8:00-11:00. $15 FOR LADIES AND MEN 11:00-1:00 (UNLESS OTHERWISE INSTRUCTED BY MANAGEMENT) \nENTERTAINMENT: BAND ON STAGE 7-11. DJ OSSY ON STAGE 11:30-2.
URL:https://orlando.bluemartini.com/event/latin-night/2025-12-11/
LOCATION:Blue Martini – Orlando\, 9101 International Dr #1182\, Orlando\, FL\, 32819\, United States
GEO:28.43239;-81.47023
X-APPLE-STRUCTURED-LOCATION;VALUE=URI;X-ADDRESS=Blue Martini – Orlando 9101 International Dr #1182 Orlando FL 32819 United States;X-APPLE-RADIUS=500;X-TITLE=9101 International Dr #1182:geo:-81.47023,28.43239
END:VEVENT
BEGIN:VEVENT
DTSTART;TZID=America/New_York:20251211T190000
DTEND;TZID=America/New_York:20251211T230000
DTSTAMP:20260421T102232
CREATED:20250616T211444Z
LAST-MODIFIED:20260126T183739Z
UID:10005559-1765479600-1765494000@orlando.bluemartini.com
SUMMARY:N Fusion
DESCRIPTION:
URL:https://orlando.bluemartini.com/event/n-fusion-2/2025-12-11/
LOCATION:Blue Martini – Orlando\, 9101 International Dr #1182\, Orlando\, FL\, 32819\, United States
ORGANIZER;CN="Blue Martini":MAILTO:Victorv@bluemartini.com
GEO:28.43239;-81.47023
X-APPLE-STRUCTURED-LOCATION;VALUE=URI;X-ADDRESS=Blue Martini – Orlando 9101 International Dr #1182 Orlando FL 32819 United States;X-APPLE-RADIUS=500;X-TITLE=9101 International Dr #1182:geo:-81.47023,28.43239
END:VEVENT
BEGIN:VEVENT
DTSTART;TZID=America/New_York:20251212T200000
DTEND;TZID=America/New_York:20251212T230000
DTSTAMP:20260421T102232
CREATED:20250616T212619Z
LAST-MODIFIED:20260126T183907Z
UID:10005556-1765569600-1765580400@orlando.bluemartini.com
SUMMARY:VZN Trio
DESCRIPTION:
URL:https://orlando.bluemartini.com/event/vzn-trio-3/2025-12-12/
LOCATION:Blue Martini – Orlando\, 9101 International Dr #1182\, Orlando\, FL\, 32819\, United States
ORGANIZER;CN="Blue Martini":MAILTO:Victorv@bluemartini.com
GEO:28.43239;-81.47023
X-APPLE-STRUCTURED-LOCATION;VALUE=URI;X-ADDRESS=Blue Martini – Orlando 9101 International Dr #1182 Orlando FL 32819 United States;X-APPLE-RADIUS=500;X-TITLE=9101 International Dr #1182:geo:-81.47023,28.43239
END:VEVENT
BEGIN:VEVENT
DTSTART;TZID=America/New_York:20251213T200000
DTEND;TZID=America/New_York:20251213T230000
DTSTAMP:20260421T102232
CREATED:20250114T195335Z
LAST-MODIFIED:20260102T173414Z
UID:10005560-1765656000-1765666800@orlando.bluemartini.com
SUMMARY:Rhythm Me Up
DESCRIPTION:
URL:https://orlando.bluemartini.com/event/rhythm-me-up/2025-12-13/
LOCATION:Blue Martini – Orlando\, 9101 International Dr #1182\, Orlando\, FL\, 32819\, United States
ORGANIZER;CN="Blue Martini":MAILTO:Victorv@bluemartini.com
GEO:28.43239;-81.47023
X-APPLE-STRUCTURED-LOCATION;VALUE=URI;X-ADDRESS=Blue Martini – Orlando 9101 International Dr #1182 Orlando FL 32819 United States;X-APPLE-RADIUS=500;X-TITLE=9101 International Dr #1182:geo:-81.47023,28.43239
END:VEVENT
BEGIN:VEVENT
DTSTART;TZID=America/New_York:20251215T180000
DTEND;TZID=America/New_York:20251216T020000
DTSTAMP:20260421T102232
CREATED:20240912T215732Z
LAST-MODIFIED:20241118T205904Z
UID:10004062-1765821600-1765850400@orlando.bluemartini.com
SUMMARY:LOCAL & LIVE MONDAYS
DESCRIPTION:HAPPY HOUR 6-8PM \n8:00-2:00 ALL LOCALS CARD HOLDERS RECEIVE 30% OFF ENTIRE MARTINI LIST\, SELECT LIQUORS\, HOUSE WINE\, BEER\, FOOD AND HOOKAH\n*DISCOUNT APPLIES TO ORIGINAL HOOKAH ONLY\, NO DISCOUNTS ON REFILLS \nBOTTLE SPECIALS: $125 TITOS\, $125 TEREMANA BLANCO & REPOSADO\n*THESE ARE LOCALS SPECIALS\, DOES NOT APPLY TO CONVENTIONS \nENTERTAINMENT: DJ IN BOOTH 10:00-2:00.
URL:https://orlando.bluemartini.com/event/local-live-mondays/2025-12-15/
LOCATION:Blue Martini – Orlando\, 9101 International Dr #1182\, Orlando\, FL\, 32819\, United States
ATTACH;FMTTYPE=image/jpeg:https://orlando.bluemartini.com/wp-content/uploads/sites/4/2024/09/MON-FLYER.jpg
GEO:28.43239;-81.47023
X-APPLE-STRUCTURED-LOCATION;VALUE=URI;X-ADDRESS=Blue Martini – Orlando 9101 International Dr #1182 Orlando FL 32819 United States;X-APPLE-RADIUS=500;X-TITLE=9101 International Dr #1182:geo:-81.47023,28.43239
END:VEVENT
BEGIN:VEVENT
DTSTART;TZID=America/New_York:20251217T180000
DTEND;TZID=America/New_York:20251218T020000
DTSTAMP:20260421T102232
CREATED:20241118T211511Z
LAST-MODIFIED:20241118T211511Z
UID:10004326-1765994400-1766023200@orlando.bluemartini.com
SUMMARY:WINE DOWN / SIN WEDNESDAYS – SERVICE INDUSTRY & LADIES NIGHT
DESCRIPTION:HAPPY HOUR 6-8PM \nWINE DOWN: 6-8PM\nDRINK SPECIALS: $5 GLASSES OF HOUSE WINE AND CHAMPAGNE\nBOTTLE SPECIALS: HALF OFF SELECT WINE BOTTLES.\nKJ CHARD\, ECCO\, WHITEHAVEN\, BEX\, ALLASEA\, J LOHR\, MEIOMI\, KJ MERLOT \nSIN NIGHT: 8PM-2AM\nDRINK SPECIALS: SERVICE INDUSTRY & LADIES RECEIVE 50% OFF ENTIRE MARTINI LIST\, SELECT LIQUORS\, HOUSE WINE\, BEER\, FOOD AND HOOKAH\n*DISCOUNT APPLIES TO ORIGINAL HOOKAH ONLY\, NO DISCOUNTS ON REFILLS\nBOTTLE SPECIALS: $150 KETEL ONE\, $150 LALO TEQUILA\, $100 MOET IMPERIAL\n*THESE ARE LOCALS SPECIALS\, DOES NOT APPLY TO CONVENTIONS\nENTERTAINMENT: 2 PIECE BAND ON STAGE 8:00-11:00. DJ ON STAGE 11:00-2:00.
URL:https://orlando.bluemartini.com/event/wine-down-sin-wednesdays-service-industry-ladies-night/2025-12-17/
LOCATION:Blue Martini – Orlando\, 9101 International Dr #1182\, Orlando\, FL\, 32819\, United States
ATTACH;FMTTYPE=image/jpeg:https://orlando.bluemartini.com/wp-content/uploads/sites/4/2024/09/WED-FLYER.jpg
GEO:28.43239;-81.47023
X-APPLE-STRUCTURED-LOCATION;VALUE=URI;X-ADDRESS=Blue Martini – Orlando 9101 International Dr #1182 Orlando FL 32819 United States;X-APPLE-RADIUS=500;X-TITLE=9101 International Dr #1182:geo:-81.47023,28.43239
END:VEVENT
BEGIN:VEVENT
DTSTART;TZID=America/New_York:20251217T200000
DTEND;TZID=America/New_York:20251217T230000
DTSTAMP:20260421T102232
CREATED:20251121T215415Z
LAST-MODIFIED:20251121T215415Z
UID:10005562-1766001600-1766012400@orlando.bluemartini.com
SUMMARY:Jace Magee Duo
DESCRIPTION:
URL:https://orlando.bluemartini.com/event/jace-magee-duo/
LOCATION:Blue Martini – Orlando\, 9101 International Dr #1182\, Orlando\, FL\, 32819\, United States
ORGANIZER;CN="Blue Martini":MAILTO:Victorv@bluemartini.com
GEO:28.43239;-81.47023
X-APPLE-STRUCTURED-LOCATION;VALUE=URI;X-ADDRESS=Blue Martini – Orlando 9101 International Dr #1182 Orlando FL 32819 United States;X-APPLE-RADIUS=500;X-TITLE=9101 International Dr #1182:geo:-81.47023,28.43239
END:VEVENT
BEGIN:VEVENT
DTSTART;VALUE=DATE:20251218
DTEND;VALUE=DATE:20251219
DTSTAMP:20260421T102232
CREATED:20250114T195853Z
LAST-MODIFIED:20250505T232258Z
UID:10005229-1766016000-1766102399@orlando.bluemartini.com
SUMMARY:DJ OSSY
DESCRIPTION:
URL:https://orlando.bluemartini.com/event/dj-ossy/2025-12-18/
LOCATION:Blue Martini – Orlando\, 9101 International Dr #1182\, Orlando\, FL\, 32819\, United States
ORGANIZER;CN="Blue Martini":MAILTO:Victorv@bluemartini.com
GEO:28.43239;-81.47023
X-APPLE-STRUCTURED-LOCATION;VALUE=URI;X-ADDRESS=Blue Martini – Orlando 9101 International Dr #1182 Orlando FL 32819 United States;X-APPLE-RADIUS=500;X-TITLE=9101 International Dr #1182:geo:-81.47023,28.43239
END:VEVENT
BEGIN:VEVENT
DTSTART;VALUE=DATE:20251218
DTEND;VALUE=DATE:20251220
DTSTAMP:20260421T102232
CREATED:20250228T230525Z
LAST-MODIFIED:20250505T232208Z
UID:10004967-1766016000-1766188799@orlando.bluemartini.com
SUMMARY:DJ ANTHONY
DESCRIPTION:
URL:https://orlando.bluemartini.com/event/dj-anthony/2025-12-18/
LOCATION:Blue Martini – Orlando\, 9101 International Dr #1182\, Orlando\, FL\, 32819\, United States
ORGANIZER;CN="Blue Martini":MAILTO:Victorv@bluemartini.com
GEO:28.43239;-81.47023
X-APPLE-STRUCTURED-LOCATION;VALUE=URI;X-ADDRESS=Blue Martini – Orlando 9101 International Dr #1182 Orlando FL 32819 United States;X-APPLE-RADIUS=500;X-TITLE=9101 International Dr #1182:geo:-81.47023,28.43239
END:VEVENT
BEGIN:VEVENT
DTSTART;TZID=America/New_York:20251218T180000
DTEND;TZID=America/New_York:20251219T020000
DTSTAMP:20260421T102232
CREATED:20241118T212246Z
LAST-MODIFIED:20241118T212247Z
UID:10004587-1766080800-1766109600@orlando.bluemartini.com
SUMMARY:LATIN NIGHT
DESCRIPTION:HAPPY HOUR 6-8PM \nBOTTLE SPECIALS BEFORE 11PM ONLY: $200 BUCHANANS\, DON JULIO BLANCO\, TITOS AND SANTA TERESA RUM\nBOTTLE SPECIALS ALL NIGHT: $150 BACARDI\, $200 TEREMANA REPOSADO\, $250 TITOS\, $275 JWB \nCOVER CHARGE: $10 FOR LADIES\, $15 FOR MEN 8:00-11:00. $15 FOR LADIES AND MEN 11:00-1:00 (UNLESS OTHERWISE INSTRUCTED BY MANAGEMENT) \nENTERTAINMENT: BAND ON STAGE 7-11. DJ OSSY ON STAGE 11:30-2.
URL:https://orlando.bluemartini.com/event/latin-night/2025-12-18/
LOCATION:Blue Martini – Orlando\, 9101 International Dr #1182\, Orlando\, FL\, 32819\, United States
GEO:28.43239;-81.47023
X-APPLE-STRUCTURED-LOCATION;VALUE=URI;X-ADDRESS=Blue Martini – Orlando 9101 International Dr #1182 Orlando FL 32819 United States;X-APPLE-RADIUS=500;X-TITLE=9101 International Dr #1182:geo:-81.47023,28.43239
END:VEVENT
BEGIN:VEVENT
DTSTART;TZID=America/New_York:20251218T190000
DTEND;TZID=America/New_York:20251218T230000
DTSTAMP:20260421T102232
CREATED:20250616T212147Z
LAST-MODIFIED:20260126T184452Z
UID:10005561-1766084400-1766098800@orlando.bluemartini.com
SUMMARY:Jade Latin Music
DESCRIPTION:
URL:https://orlando.bluemartini.com/event/jade-latin-music-2/2025-12-18/
LOCATION:Blue Martini – Orlando\, 9101 International Dr #1182\, Orlando\, FL\, 32819\, United States
ORGANIZER;CN="Blue Martini":MAILTO:Victorv@bluemartini.com
GEO:28.43239;-81.47023
X-APPLE-STRUCTURED-LOCATION;VALUE=URI;X-ADDRESS=Blue Martini – Orlando 9101 International Dr #1182 Orlando FL 32819 United States;X-APPLE-RADIUS=500;X-TITLE=9101 International Dr #1182:geo:-81.47023,28.43239
END:VEVENT
BEGIN:VEVENT
DTSTART;TZID=America/New_York:20251220T200000
DTEND;TZID=America/New_York:20251220T230000
DTSTAMP:20260421T102232
CREATED:20250616T211636Z
LAST-MODIFIED:20260126T190417Z
UID:10005563-1766260800-1766271600@orlando.bluemartini.com
SUMMARY:Lovestruck Robot
DESCRIPTION:
URL:https://orlando.bluemartini.com/event/lovestruck-robot/2025-12-20/
LOCATION:Blue Martini – Orlando\, 9101 International Dr #1182\, Orlando\, FL\, 32819\, United States
ORGANIZER;CN="Blue Martini":MAILTO:Victorv@bluemartini.com
GEO:28.43239;-81.47023
X-APPLE-STRUCTURED-LOCATION;VALUE=URI;X-ADDRESS=Blue Martini – Orlando 9101 International Dr #1182 Orlando FL 32819 United States;X-APPLE-RADIUS=500;X-TITLE=9101 International Dr #1182:geo:-81.47023,28.43239
END:VEVENT
BEGIN:VEVENT
DTSTART;TZID=America/New_York:20251222T180000
DTEND;TZID=America/New_York:20251223T020000
DTSTAMP:20260421T102232
CREATED:20240912T215732Z
LAST-MODIFIED:20241118T205904Z
UID:10004063-1766426400-1766455200@orlando.bluemartini.com
SUMMARY:LOCAL & LIVE MONDAYS
DESCRIPTION:HAPPY HOUR 6-8PM \n8:00-2:00 ALL LOCALS CARD HOLDERS RECEIVE 30% OFF ENTIRE MARTINI LIST\, SELECT LIQUORS\, HOUSE WINE\, BEER\, FOOD AND HOOKAH\n*DISCOUNT APPLIES TO ORIGINAL HOOKAH ONLY\, NO DISCOUNTS ON REFILLS \nBOTTLE SPECIALS: $125 TITOS\, $125 TEREMANA BLANCO & REPOSADO\n*THESE ARE LOCALS SPECIALS\, DOES NOT APPLY TO CONVENTIONS \nENTERTAINMENT: DJ IN BOOTH 10:00-2:00.
URL:https://orlando.bluemartini.com/event/local-live-mondays/2025-12-22/
LOCATION:Blue Martini – Orlando\, 9101 International Dr #1182\, Orlando\, FL\, 32819\, United States
ATTACH;FMTTYPE=image/jpeg:https://orlando.bluemartini.com/wp-content/uploads/sites/4/2024/09/MON-FLYER.jpg
GEO:28.43239;-81.47023
X-APPLE-STRUCTURED-LOCATION;VALUE=URI;X-ADDRESS=Blue Martini – Orlando 9101 International Dr #1182 Orlando FL 32819 United States;X-APPLE-RADIUS=500;X-TITLE=9101 International Dr #1182:geo:-81.47023,28.43239
END:VEVENT
BEGIN:VEVENT
DTSTART;TZID=America/New_York:20251224T180000
DTEND;TZID=America/New_York:20251225T020000
DTSTAMP:20260421T102232
CREATED:20241118T211511Z
LAST-MODIFIED:20241118T211511Z
UID:10004327-1766599200-1766628000@orlando.bluemartini.com
SUMMARY:WINE DOWN / SIN WEDNESDAYS – SERVICE INDUSTRY & LADIES NIGHT
DESCRIPTION:HAPPY HOUR 6-8PM \nWINE DOWN: 6-8PM\nDRINK SPECIALS: $5 GLASSES OF HOUSE WINE AND CHAMPAGNE\nBOTTLE SPECIALS: HALF OFF SELECT WINE BOTTLES.\nKJ CHARD\, ECCO\, WHITEHAVEN\, BEX\, ALLASEA\, J LOHR\, MEIOMI\, KJ MERLOT \nSIN NIGHT: 8PM-2AM\nDRINK SPECIALS: SERVICE INDUSTRY & LADIES RECEIVE 50% OFF ENTIRE MARTINI LIST\, SELECT LIQUORS\, HOUSE WINE\, BEER\, FOOD AND HOOKAH\n*DISCOUNT APPLIES TO ORIGINAL HOOKAH ONLY\, NO DISCOUNTS ON REFILLS\nBOTTLE SPECIALS: $150 KETEL ONE\, $150 LALO TEQUILA\, $100 MOET IMPERIAL\n*THESE ARE LOCALS SPECIALS\, DOES NOT APPLY TO CONVENTIONS\nENTERTAINMENT: 2 PIECE BAND ON STAGE 8:00-11:00. DJ ON STAGE 11:00-2:00.
URL:https://orlando.bluemartini.com/event/wine-down-sin-wednesdays-service-industry-ladies-night/2025-12-24/
LOCATION:Blue Martini – Orlando\, 9101 International Dr #1182\, Orlando\, FL\, 32819\, United States
ATTACH;FMTTYPE=image/jpeg:https://orlando.bluemartini.com/wp-content/uploads/sites/4/2024/09/WED-FLYER.jpg
GEO:28.43239;-81.47023
X-APPLE-STRUCTURED-LOCATION;VALUE=URI;X-ADDRESS=Blue Martini – Orlando 9101 International Dr #1182 Orlando FL 32819 United States;X-APPLE-RADIUS=500;X-TITLE=9101 International Dr #1182:geo:-81.47023,28.43239
END:VEVENT
BEGIN:VEVENT
DTSTART;VALUE=DATE:20251225
DTEND;VALUE=DATE:20251226
DTSTAMP:20260421T102232
CREATED:20250114T195853Z
LAST-MODIFIED:20250505T232258Z
UID:10005230-1766620800-1766707199@orlando.bluemartini.com
SUMMARY:DJ OSSY
DESCRIPTION:
URL:https://orlando.bluemartini.com/event/dj-ossy/2025-12-25/
LOCATION:Blue Martini – Orlando\, 9101 International Dr #1182\, Orlando\, FL\, 32819\, United States
ORGANIZER;CN="Blue Martini":MAILTO:Victorv@bluemartini.com
GEO:28.43239;-81.47023
X-APPLE-STRUCTURED-LOCATION;VALUE=URI;X-ADDRESS=Blue Martini – Orlando 9101 International Dr #1182 Orlando FL 32819 United States;X-APPLE-RADIUS=500;X-TITLE=9101 International Dr #1182:geo:-81.47023,28.43239
END:VEVENT
BEGIN:VEVENT
DTSTART;VALUE=DATE:20251225
DTEND;VALUE=DATE:20251227
DTSTAMP:20260421T102232
CREATED:20250228T230525Z
LAST-MODIFIED:20250505T232208Z
UID:10004968-1766620800-1766793599@orlando.bluemartini.com
SUMMARY:DJ ANTHONY
DESCRIPTION:
URL:https://orlando.bluemartini.com/event/dj-anthony/2025-12-25/
LOCATION:Blue Martini – Orlando\, 9101 International Dr #1182\, Orlando\, FL\, 32819\, United States
ORGANIZER;CN="Blue Martini":MAILTO:Victorv@bluemartini.com
GEO:28.43239;-81.47023
X-APPLE-STRUCTURED-LOCATION;VALUE=URI;X-ADDRESS=Blue Martini – Orlando 9101 International Dr #1182 Orlando FL 32819 United States;X-APPLE-RADIUS=500;X-TITLE=9101 International Dr #1182:geo:-81.47023,28.43239
END:VEVENT
BEGIN:VEVENT
DTSTART;TZID=America/New_York:20251225T180000
DTEND;TZID=America/New_York:20251226T020000
DTSTAMP:20260421T102232
CREATED:20241118T212246Z
LAST-MODIFIED:20241118T212247Z
UID:10004588-1766685600-1766714400@orlando.bluemartini.com
SUMMARY:LATIN NIGHT
DESCRIPTION:HAPPY HOUR 6-8PM \nBOTTLE SPECIALS BEFORE 11PM ONLY: $200 BUCHANANS\, DON JULIO BLANCO\, TITOS AND SANTA TERESA RUM\nBOTTLE SPECIALS ALL NIGHT: $150 BACARDI\, $200 TEREMANA REPOSADO\, $250 TITOS\, $275 JWB \nCOVER CHARGE: $10 FOR LADIES\, $15 FOR MEN 8:00-11:00. $15 FOR LADIES AND MEN 11:00-1:00 (UNLESS OTHERWISE INSTRUCTED BY MANAGEMENT) \nENTERTAINMENT: BAND ON STAGE 7-11. DJ OSSY ON STAGE 11:30-2.
URL:https://orlando.bluemartini.com/event/latin-night/2025-12-25/
LOCATION:Blue Martini – Orlando\, 9101 International Dr #1182\, Orlando\, FL\, 32819\, United States
GEO:28.43239;-81.47023
X-APPLE-STRUCTURED-LOCATION;VALUE=URI;X-ADDRESS=Blue Martini – Orlando 9101 International Dr #1182 Orlando FL 32819 United States;X-APPLE-RADIUS=500;X-TITLE=9101 International Dr #1182:geo:-81.47023,28.43239
END:VEVENT
BEGIN:VEVENT
DTSTART;TZID=America/New_York:20251226T200000
DTEND;TZID=America/New_York:20251226T230000
DTSTAMP:20260421T102232
CREATED:20250616T212432Z
LAST-MODIFIED:20251121T215903Z
UID:10005564-1766779200-1766790000@orlando.bluemartini.com
SUMMARY:Some Miles
DESCRIPTION:
URL:https://orlando.bluemartini.com/event/some-miles-2/2025-12-26/
LOCATION:Blue Martini – Orlando\, 9101 International Dr #1182\, Orlando\, FL\, 32819\, United States
ORGANIZER;CN="Blue Martini":MAILTO:Victorv@bluemartini.com
GEO:28.43239;-81.47023
X-APPLE-STRUCTURED-LOCATION;VALUE=URI;X-ADDRESS=Blue Martini – Orlando 9101 International Dr #1182 Orlando FL 32819 United States;X-APPLE-RADIUS=500;X-TITLE=9101 International Dr #1182:geo:-81.47023,28.43239
END:VEVENT
END:VCALENDAR