BEGIN:VCALENDAR
VERSION:2.0
PRODID:-//Pointe Orlando - ECPv6.15.17//NONSGML v1.0//EN
CALSCALE:GREGORIAN
METHOD:PUBLISH
X-ORIGINAL-URL:https://orlando.bluemartini.com
X-WR-CALDESC:Events for Pointe Orlando
REFRESH-INTERVAL;VALUE=DURATION:PT1H
X-Robots-Tag:noindex
X-PUBLISHED-TTL:PT1H
BEGIN:VTIMEZONE
TZID:America/New_York
BEGIN:DAYLIGHT
TZOFFSETFROM:-0500
TZOFFSETTO:-0400
TZNAME:EDT
DTSTART:20250309T070000
END:DAYLIGHT
BEGIN:STANDARD
TZOFFSETFROM:-0400
TZOFFSETTO:-0500
TZNAME:EST
DTSTART:20251102T060000
END:STANDARD
BEGIN:DAYLIGHT
TZOFFSETFROM:-0500
TZOFFSETTO:-0400
TZNAME:EDT
DTSTART:20260308T070000
END:DAYLIGHT
BEGIN:STANDARD
TZOFFSETFROM:-0400
TZOFFSETTO:-0500
TZNAME:EST
DTSTART:20261101T060000
END:STANDARD
BEGIN:DAYLIGHT
TZOFFSETFROM:-0500
TZOFFSETTO:-0400
TZNAME:EDT
DTSTART:20270314T070000
END:DAYLIGHT
BEGIN:STANDARD
TZOFFSETFROM:-0400
TZOFFSETTO:-0500
TZNAME:EST
DTSTART:20271107T060000
END:STANDARD
END:VTIMEZONE
BEGIN:VEVENT
DTSTART;TZID=America/New_York:20260430T180000
DTEND;TZID=America/New_York:20260501T020000
DTSTAMP:20260420T072245
CREATED:20241118T212246Z
LAST-MODIFIED:20241118T212247Z
UID:10004606-1777572000-1777600800@orlando.bluemartini.com
SUMMARY:LATIN NIGHT
DESCRIPTION:HAPPY HOUR 6-8PM \nBOTTLE SPECIALS BEFORE 11PM ONLY: $200 BUCHANANS\, DON JULIO BLANCO\, TITOS AND SANTA TERESA RUM\nBOTTLE SPECIALS ALL NIGHT: $150 BACARDI\, $200 TEREMANA REPOSADO\, $250 TITOS\, $275 JWB \nCOVER CHARGE: $10 FOR LADIES\, $15 FOR MEN 8:00-11:00. $15 FOR LADIES AND MEN 11:00-1:00 (UNLESS OTHERWISE INSTRUCTED BY MANAGEMENT) \nENTERTAINMENT: BAND ON STAGE 7-11. DJ OSSY ON STAGE 11:30-2.
URL:https://orlando.bluemartini.com/event/latin-night/2026-04-30/
LOCATION:Blue Martini – Orlando\, 9101 International Dr #1182\, Orlando\, FL\, 32819\, United States
GEO:28.43239;-81.47023
X-APPLE-STRUCTURED-LOCATION;VALUE=URI;X-ADDRESS=Blue Martini – Orlando 9101 International Dr #1182 Orlando FL 32819 United States;X-APPLE-RADIUS=500;X-TITLE=9101 International Dr #1182:geo:-81.47023,28.43239
END:VEVENT
BEGIN:VEVENT
DTSTART;TZID=America/New_York:20260504T180000
DTEND;TZID=America/New_York:20260505T020000
DTSTAMP:20260420T072245
CREATED:20240912T215732Z
LAST-MODIFIED:20241118T205904Z
UID:10004082-1777917600-1777946400@orlando.bluemartini.com
SUMMARY:LOCAL & LIVE MONDAYS
DESCRIPTION:HAPPY HOUR 6-8PM \n8:00-2:00 ALL LOCALS CARD HOLDERS RECEIVE 30% OFF ENTIRE MARTINI LIST\, SELECT LIQUORS\, HOUSE WINE\, BEER\, FOOD AND HOOKAH\n*DISCOUNT APPLIES TO ORIGINAL HOOKAH ONLY\, NO DISCOUNTS ON REFILLS \nBOTTLE SPECIALS: $125 TITOS\, $125 TEREMANA BLANCO & REPOSADO\n*THESE ARE LOCALS SPECIALS\, DOES NOT APPLY TO CONVENTIONS \nENTERTAINMENT: DJ IN BOOTH 10:00-2:00.
URL:https://orlando.bluemartini.com/event/local-live-mondays/2026-05-04/
LOCATION:Blue Martini – Orlando\, 9101 International Dr #1182\, Orlando\, FL\, 32819\, United States
ATTACH;FMTTYPE=image/jpeg:https://orlando.bluemartini.com/wp-content/uploads/sites/4/2024/09/MON-FLYER.jpg
GEO:28.43239;-81.47023
X-APPLE-STRUCTURED-LOCATION;VALUE=URI;X-ADDRESS=Blue Martini – Orlando 9101 International Dr #1182 Orlando FL 32819 United States;X-APPLE-RADIUS=500;X-TITLE=9101 International Dr #1182:geo:-81.47023,28.43239
END:VEVENT
BEGIN:VEVENT
DTSTART;TZID=America/New_York:20260506T180000
DTEND;TZID=America/New_York:20260507T020000
DTSTAMP:20260420T072245
CREATED:20241118T211511Z
LAST-MODIFIED:20241118T211511Z
UID:10004346-1778090400-1778119200@orlando.bluemartini.com
SUMMARY:WINE DOWN / SIN WEDNESDAYS – SERVICE INDUSTRY & LADIES NIGHT
DESCRIPTION:HAPPY HOUR 6-8PM \nWINE DOWN: 6-8PM\nDRINK SPECIALS: $5 GLASSES OF HOUSE WINE AND CHAMPAGNE\nBOTTLE SPECIALS: HALF OFF SELECT WINE BOTTLES.\nKJ CHARD\, ECCO\, WHITEHAVEN\, BEX\, ALLASEA\, J LOHR\, MEIOMI\, KJ MERLOT \nSIN NIGHT: 8PM-2AM\nDRINK SPECIALS: SERVICE INDUSTRY & LADIES RECEIVE 50% OFF ENTIRE MARTINI LIST\, SELECT LIQUORS\, HOUSE WINE\, BEER\, FOOD AND HOOKAH\n*DISCOUNT APPLIES TO ORIGINAL HOOKAH ONLY\, NO DISCOUNTS ON REFILLS\nBOTTLE SPECIALS: $150 KETEL ONE\, $150 LALO TEQUILA\, $100 MOET IMPERIAL\n*THESE ARE LOCALS SPECIALS\, DOES NOT APPLY TO CONVENTIONS\nENTERTAINMENT: 2 PIECE BAND ON STAGE 8:00-11:00. DJ ON STAGE 11:00-2:00.
URL:https://orlando.bluemartini.com/event/wine-down-sin-wednesdays-service-industry-ladies-night/2026-05-06/
LOCATION:Blue Martini – Orlando\, 9101 International Dr #1182\, Orlando\, FL\, 32819\, United States
ATTACH;FMTTYPE=image/jpeg:https://orlando.bluemartini.com/wp-content/uploads/sites/4/2024/09/WED-FLYER.jpg
GEO:28.43239;-81.47023
X-APPLE-STRUCTURED-LOCATION;VALUE=URI;X-ADDRESS=Blue Martini – Orlando 9101 International Dr #1182 Orlando FL 32819 United States;X-APPLE-RADIUS=500;X-TITLE=9101 International Dr #1182:geo:-81.47023,28.43239
END:VEVENT
BEGIN:VEVENT
DTSTART;VALUE=DATE:20260507
DTEND;VALUE=DATE:20260508
DTSTAMP:20260420T072245
CREATED:20250114T195853Z
LAST-MODIFIED:20250505T232258Z
UID:10005249-1778112000-1778198399@orlando.bluemartini.com
SUMMARY:DJ OSSY
DESCRIPTION:
URL:https://orlando.bluemartini.com/event/dj-ossy/2026-05-07/
LOCATION:Blue Martini – Orlando\, 9101 International Dr #1182\, Orlando\, FL\, 32819\, United States
ORGANIZER;CN="Blue Martini":MAILTO:Victorv@bluemartini.com
GEO:28.43239;-81.47023
X-APPLE-STRUCTURED-LOCATION;VALUE=URI;X-ADDRESS=Blue Martini – Orlando 9101 International Dr #1182 Orlando FL 32819 United States;X-APPLE-RADIUS=500;X-TITLE=9101 International Dr #1182:geo:-81.47023,28.43239
END:VEVENT
END:VCALENDAR