BEGIN:VCALENDAR
VERSION:2.0
PRODID:-//Pointe Orlando - ECPv6.15.17//NONSGML v1.0//EN
CALSCALE:GREGORIAN
METHOD:PUBLISH
X-ORIGINAL-URL:http://orlando.bluemartini.com
X-WR-CALDESC:Events for Pointe Orlando
REFRESH-INTERVAL;VALUE=DURATION:PT1H
X-Robots-Tag:noindex
X-PUBLISHED-TTL:PT1H
BEGIN:VTIMEZONE
TZID:America/New_York
BEGIN:DAYLIGHT
TZOFFSETFROM:-0500
TZOFFSETTO:-0400
TZNAME:EDT
DTSTART:20230312T070000
END:DAYLIGHT
BEGIN:STANDARD
TZOFFSETFROM:-0400
TZOFFSETTO:-0500
TZNAME:EST
DTSTART:20231105T060000
END:STANDARD
BEGIN:DAYLIGHT
TZOFFSETFROM:-0500
TZOFFSETTO:-0400
TZNAME:EDT
DTSTART:20240310T070000
END:DAYLIGHT
BEGIN:STANDARD
TZOFFSETFROM:-0400
TZOFFSETTO:-0500
TZNAME:EST
DTSTART:20241103T060000
END:STANDARD
BEGIN:DAYLIGHT
TZOFFSETFROM:-0500
TZOFFSETTO:-0400
TZNAME:EDT
DTSTART:20250309T070000
END:DAYLIGHT
BEGIN:STANDARD
TZOFFSETFROM:-0400
TZOFFSETTO:-0500
TZNAME:EST
DTSTART:20251102T060000
END:STANDARD
BEGIN:DAYLIGHT
TZOFFSETFROM:-0500
TZOFFSETTO:-0400
TZNAME:EDT
DTSTART:20260308T070000
END:DAYLIGHT
BEGIN:STANDARD
TZOFFSETFROM:-0400
TZOFFSETTO:-0500
TZNAME:EST
DTSTART:20261101T060000
END:STANDARD
BEGIN:DAYLIGHT
TZOFFSETFROM:-0500
TZOFFSETTO:-0400
TZNAME:EDT
DTSTART:20270314T070000
END:DAYLIGHT
BEGIN:STANDARD
TZOFFSETFROM:-0400
TZOFFSETTO:-0500
TZNAME:EST
DTSTART:20271107T060000
END:STANDARD
END:VTIMEZONE
BEGIN:VEVENT
DTSTART;TZID=America/New_York:20260227T200000
DTEND;TZID=America/New_York:20260227T230000
DTSTAMP:20260424T102817
CREATED:20250918T182251Z
LAST-MODIFIED:20260126T190810Z
UID:10005625-1772222400-1772233200@orlando.bluemartini.com
SUMMARY:Gravity Parade
DESCRIPTION:
URL:http://orlando.bluemartini.com/event/gravity-parade/2026-02-27/
LOCATION:Blue Martini – Orlando\, 9101 International Dr #1182\, Orlando\, FL\, 32819\, United States
ORGANIZER;CN="Blue Martini":MAILTO:Victorv@bluemartini.com
GEO:28.43239;-81.47023
X-APPLE-STRUCTURED-LOCATION;VALUE=URI;X-ADDRESS=Blue Martini – Orlando 9101 International Dr #1182 Orlando FL 32819 United States;X-APPLE-RADIUS=500;X-TITLE=9101 International Dr #1182:geo:-81.47023,28.43239
END:VEVENT
BEGIN:VEVENT
DTSTART;TZID=America/New_York:20260219T190000
DTEND;TZID=America/New_York:20260219T230000
DTSTAMP:20260424T102817
CREATED:20250918T182604Z
LAST-MODIFIED:20260126T185100Z
UID:10005622-1771527600-1771542000@orlando.bluemartini.com
SUMMARY:3Logy
DESCRIPTION:
URL:http://orlando.bluemartini.com/event/3logy/2026-02-19/
LOCATION:Blue Martini – Orlando\, 9101 International Dr #1182\, Orlando\, FL\, 32819\, United States
ORGANIZER;CN="Blue Martini":MAILTO:Victorv@bluemartini.com
GEO:28.43239;-81.47023
X-APPLE-STRUCTURED-LOCATION;VALUE=URI;X-ADDRESS=Blue Martini – Orlando 9101 International Dr #1182 Orlando FL 32819 United States;X-APPLE-RADIUS=500;X-TITLE=9101 International Dr #1182:geo:-81.47023,28.43239
END:VEVENT
BEGIN:VEVENT
DTSTART;TZID=America/New_York:20260214T200000
DTEND;TZID=America/New_York:20260214T230000
DTSTAMP:20260424T102817
CREATED:20260126T191013Z
LAST-MODIFIED:20260126T191013Z
UID:10005626-1771099200-1771110000@orlando.bluemartini.com
SUMMARY:24K Band
DESCRIPTION:
URL:http://orlando.bluemartini.com/event/24k-band/
LOCATION:Blue Martini – Orlando\, 9101 International Dr #1182\, Orlando\, FL\, 32819\, United States
ORGANIZER;CN="Blue Martini":MAILTO:Victorv@bluemartini.com
GEO:28.43239;-81.47023
X-APPLE-STRUCTURED-LOCATION;VALUE=URI;X-ADDRESS=Blue Martini – Orlando 9101 International Dr #1182 Orlando FL 32819 United States;X-APPLE-RADIUS=500;X-TITLE=9101 International Dr #1182:geo:-81.47023,28.43239
END:VEVENT
BEGIN:VEVENT
DTSTART;TZID=America/New_York:20260213T200000
DTEND;TZID=America/New_York:20260213T230000
DTSTAMP:20260424T102817
CREATED:20250114T194908Z
LAST-MODIFIED:20260126T184710Z
UID:10005618-1771012800-1771023600@orlando.bluemartini.com
SUMMARY:Red Mint Trio
DESCRIPTION:
URL:http://orlando.bluemartini.com/event/red-mint-trio/2026-02-13/
LOCATION:Blue Martini – Orlando\, 9101 International Dr #1182\, Orlando\, FL\, 32819\, United States
ORGANIZER;CN="Blue Martini":MAILTO:Victorv@bluemartini.com
GEO:28.43239;-81.47023
X-APPLE-STRUCTURED-LOCATION;VALUE=URI;X-ADDRESS=Blue Martini – Orlando 9101 International Dr #1182 Orlando FL 32819 United States;X-APPLE-RADIUS=500;X-TITLE=9101 International Dr #1182:geo:-81.47023,28.43239
END:VEVENT
BEGIN:VEVENT
DTSTART;TZID=America/New_York:20260212T190000
DTEND;TZID=America/New_York:20260212T230000
DTSTAMP:20260424T102817
CREATED:20250616T212147Z
LAST-MODIFIED:20260126T184452Z
UID:10005617-1770922800-1770937200@orlando.bluemartini.com
SUMMARY:Jade Latin Music
DESCRIPTION:
URL:http://orlando.bluemartini.com/event/jade-latin-music-2/2026-02-12/
LOCATION:Blue Martini – Orlando\, 9101 International Dr #1182\, Orlando\, FL\, 32819\, United States
ORGANIZER;CN="Blue Martini":MAILTO:Victorv@bluemartini.com
GEO:28.43239;-81.47023
X-APPLE-STRUCTURED-LOCATION;VALUE=URI;X-ADDRESS=Blue Martini – Orlando 9101 International Dr #1182 Orlando FL 32819 United States;X-APPLE-RADIUS=500;X-TITLE=9101 International Dr #1182:geo:-81.47023,28.43239
END:VEVENT
BEGIN:VEVENT
DTSTART;TZID=America/New_York:20260207T200000
DTEND;TZID=America/New_York:20260207T230000
DTSTAMP:20260424T102817
CREATED:20250616T212619Z
LAST-MODIFIED:20260126T183907Z
UID:10005616-1770494400-1770505200@orlando.bluemartini.com
SUMMARY:VZN Trio
DESCRIPTION:
URL:http://orlando.bluemartini.com/event/vzn-trio-3/2026-02-07/
LOCATION:Blue Martini – Orlando\, 9101 International Dr #1182\, Orlando\, FL\, 32819\, United States
ORGANIZER;CN="Blue Martini":MAILTO:Victorv@bluemartini.com
GEO:28.43239;-81.47023
X-APPLE-STRUCTURED-LOCATION;VALUE=URI;X-ADDRESS=Blue Martini – Orlando 9101 International Dr #1182 Orlando FL 32819 United States;X-APPLE-RADIUS=500;X-TITLE=9101 International Dr #1182:geo:-81.47023,28.43239
END:VEVENT
BEGIN:VEVENT
DTSTART;TZID=America/New_York:20251226T200000
DTEND;TZID=America/New_York:20251226T230000
DTSTAMP:20260424T102817
CREATED:20250616T212432Z
LAST-MODIFIED:20251121T215903Z
UID:10005564-1766779200-1766790000@orlando.bluemartini.com
SUMMARY:Some Miles
DESCRIPTION:
URL:http://orlando.bluemartini.com/event/some-miles-2/2025-12-26/
LOCATION:Blue Martini – Orlando\, 9101 International Dr #1182\, Orlando\, FL\, 32819\, United States
ORGANIZER;CN="Blue Martini":MAILTO:Victorv@bluemartini.com
GEO:28.43239;-81.47023
X-APPLE-STRUCTURED-LOCATION;VALUE=URI;X-ADDRESS=Blue Martini – Orlando 9101 International Dr #1182 Orlando FL 32819 United States;X-APPLE-RADIUS=500;X-TITLE=9101 International Dr #1182:geo:-81.47023,28.43239
END:VEVENT
BEGIN:VEVENT
DTSTART;TZID=America/New_York:20251217T200000
DTEND;TZID=America/New_York:20251217T230000
DTSTAMP:20260424T102817
CREATED:20251121T215415Z
LAST-MODIFIED:20251121T215415Z
UID:10005562-1766001600-1766012400@orlando.bluemartini.com
SUMMARY:Jace Magee Duo
DESCRIPTION:
URL:http://orlando.bluemartini.com/event/jace-magee-duo/
LOCATION:Blue Martini – Orlando\, 9101 International Dr #1182\, Orlando\, FL\, 32819\, United States
ORGANIZER;CN="Blue Martini":MAILTO:Victorv@bluemartini.com
GEO:28.43239;-81.47023
X-APPLE-STRUCTURED-LOCATION;VALUE=URI;X-ADDRESS=Blue Martini – Orlando 9101 International Dr #1182 Orlando FL 32819 United States;X-APPLE-RADIUS=500;X-TITLE=9101 International Dr #1182:geo:-81.47023,28.43239
END:VEVENT
BEGIN:VEVENT
DTSTART;TZID=America/New_York:20251210T200000
DTEND;TZID=America/New_York:20251210T230000
DTSTAMP:20260424T102817
CREATED:20241118T212934Z
LAST-MODIFIED:20251121T214719Z
UID:10005558-1765396800-1765407600@orlando.bluemartini.com
SUMMARY:PACIFIC RUSH DUO
DESCRIPTION:
URL:http://orlando.bluemartini.com/event/pacific-rush-duo/2025-12-10/
LOCATION:Blue Martini – Orlando\, 9101 International Dr #1182\, Orlando\, FL\, 32819\, United States
ORGANIZER;CN="Blue Martini":MAILTO:Victorv@bluemartini.com
GEO:28.43239;-81.47023
X-APPLE-STRUCTURED-LOCATION;VALUE=URI;X-ADDRESS=Blue Martini – Orlando 9101 International Dr #1182 Orlando FL 32819 United States;X-APPLE-RADIUS=500;X-TITLE=9101 International Dr #1182:geo:-81.47023,28.43239
END:VEVENT
BEGIN:VEVENT
DTSTART;TZID=America/New_York:20251029T200000
DTEND;TZID=America/New_York:20251029T230000
DTSTAMP:20260424T102817
CREATED:20250616T212926Z
LAST-MODIFIED:20250918T182418Z
UID:10005536-1761768000-1761778800@orlando.bluemartini.com
SUMMARY:Bluestone Circle Duo
DESCRIPTION:
URL:http://orlando.bluemartini.com/event/bluestone-circle-duo/2025-10-29/
LOCATION:Blue Martini – Orlando\, 9101 International Dr #1182\, Orlando\, FL\, 32819\, United States
ORGANIZER;CN="Blue Martini":MAILTO:Victorv@bluemartini.com
GEO:28.43239;-81.47023
X-APPLE-STRUCTURED-LOCATION;VALUE=URI;X-ADDRESS=Blue Martini – Orlando 9101 International Dr #1182 Orlando FL 32819 United States;X-APPLE-RADIUS=500;X-TITLE=9101 International Dr #1182:geo:-81.47023,28.43239
END:VEVENT
BEGIN:VEVENT
DTSTART;TZID=America/New_York:20251024T200000
DTEND;TZID=America/New_York:20251024T230000
DTSTAMP:20260424T102817
CREATED:20250505T234918Z
LAST-MODIFIED:20260126T190556Z
UID:10005534-1761336000-1761346800@orlando.bluemartini.com
SUMMARY:City Loud
DESCRIPTION:
URL:http://orlando.bluemartini.com/event/city-loud/2025-10-24/
LOCATION:Blue Martini – Orlando\, 9101 International Dr #1182\, Orlando\, FL\, 32819\, United States
ORGANIZER;CN="Blue Martini":MAILTO:Victorv@bluemartini.com
GEO:28.43239;-81.47023
X-APPLE-STRUCTURED-LOCATION;VALUE=URI;X-ADDRESS=Blue Martini – Orlando 9101 International Dr #1182 Orlando FL 32819 United States;X-APPLE-RADIUS=500;X-TITLE=9101 International Dr #1182:geo:-81.47023,28.43239
END:VEVENT
BEGIN:VEVENT
DTSTART;TZID=America/New_York:20250830T200000
DTEND;TZID=America/New_York:20250830T230000
DTSTAMP:20260424T102817
CREATED:20250228T232741Z
LAST-MODIFIED:20250702T170402Z
UID:10005514-1756584000-1756594800@orlando.bluemartini.com
SUMMARY:Intensity Trio
DESCRIPTION:
URL:http://orlando.bluemartini.com/event/intensity-trio/2025-08-30/
LOCATION:Blue Martini – Orlando\, 9101 International Dr #1182\, Orlando\, FL\, 32819\, United States
ORGANIZER;CN="Blue Martini":MAILTO:Victorv@bluemartini.com
GEO:28.43239;-81.47023
X-APPLE-STRUCTURED-LOCATION;VALUE=URI;X-ADDRESS=Blue Martini – Orlando 9101 International Dr #1182 Orlando FL 32819 United States;X-APPLE-RADIUS=500;X-TITLE=9101 International Dr #1182:geo:-81.47023,28.43239
END:VEVENT
BEGIN:VEVENT
DTSTART;TZID=America/New_York:20250817T190000
DTEND;TZID=America/New_York:20250817T230000
DTSTAMP:20260424T102817
CREATED:20250616T213302Z
LAST-MODIFIED:20250616T213302Z
UID:10005495-1755457200-1755471600@orlando.bluemartini.com
SUMMARY:Sol Caribe
DESCRIPTION:
URL:http://orlando.bluemartini.com/event/sol-caribe-3/
LOCATION:Blue Martini – Orlando\, 9101 International Dr #1182\, Orlando\, FL\, 32819\, United States
ORGANIZER;CN="Blue Martini":MAILTO:Victorv@bluemartini.com
GEO:28.43239;-81.47023
X-APPLE-STRUCTURED-LOCATION;VALUE=URI;X-ADDRESS=Blue Martini – Orlando 9101 International Dr #1182 Orlando FL 32819 United States;X-APPLE-RADIUS=500;X-TITLE=9101 International Dr #1182:geo:-81.47023,28.43239
END:VEVENT
BEGIN:VEVENT
DTSTART;TZID=America/New_York:20250814T190000
DTEND;TZID=America/New_York:20250814T230000
DTSTAMP:20260424T102817
CREATED:20250702T164715Z
LAST-MODIFIED:20250702T164715Z
UID:10005510-1755198000-1755212400@orlando.bluemartini.com
SUMMARY:Social Caribe
DESCRIPTION:
URL:http://orlando.bluemartini.com/event/social-caribe/2025-08-14/
LOCATION:Blue Martini – Orlando\, 9101 International Dr #1182\, Orlando\, FL\, 32819\, United States
ORGANIZER;CN="Blue Martini":MAILTO:Victorv@bluemartini.com
GEO:28.43239;-81.47023
X-APPLE-STRUCTURED-LOCATION;VALUE=URI;X-ADDRESS=Blue Martini – Orlando 9101 International Dr #1182 Orlando FL 32819 United States;X-APPLE-RADIUS=500;X-TITLE=9101 International Dr #1182:geo:-81.47023,28.43239
END:VEVENT
BEGIN:VEVENT
DTSTART;TZID=America/New_York:20250808T200000
DTEND;TZID=America/New_York:20250808T230000
DTSTAMP:20260424T102817
CREATED:20250702T171230Z
LAST-MODIFIED:20250702T171230Z
UID:10005516-1754683200-1754694000@orlando.bluemartini.com
SUMMARY:Audio Exchange
DESCRIPTION:
URL:http://orlando.bluemartini.com/event/audio-exchange/
LOCATION:Blue Martini – Orlando\, 9101 International Dr #1182\, Orlando\, FL\, 32819\, United States
ORGANIZER;CN="Blue Martini":MAILTO:Victorv@bluemartini.com
GEO:28.43239;-81.47023
X-APPLE-STRUCTURED-LOCATION;VALUE=URI;X-ADDRESS=Blue Martini – Orlando 9101 International Dr #1182 Orlando FL 32819 United States;X-APPLE-RADIUS=500;X-TITLE=9101 International Dr #1182:geo:-81.47023,28.43239
END:VEVENT
BEGIN:VEVENT
DTSTART;VALUE=DATE:20250525
DTEND;VALUE=DATE:20250527
DTSTAMP:20260424T102817
CREATED:20250206T193858Z
LAST-MODIFIED:20250505T234541Z
UID:10005476-1748131200-1748217600@orlando.bluemartini.com
SUMMARY:SOL CAFE
DESCRIPTION:
URL:http://orlando.bluemartini.com/event/sol-cafe/2025-05-25/
LOCATION:Blue Martini – Orlando\, 9101 International Dr #1182\, Orlando\, FL\, 32819\, United States
ORGANIZER;CN="Blue Martini":MAILTO:Victorv@bluemartini.com
GEO:28.43239;-81.47023
X-APPLE-STRUCTURED-LOCATION;VALUE=URI;X-ADDRESS=Blue Martini – Orlando 9101 International Dr #1182 Orlando FL 32819 United States;X-APPLE-RADIUS=500;X-TITLE=9101 International Dr #1182:geo:-81.47023,28.43239
END:VEVENT
BEGIN:VEVENT
DTSTART;TZID=America/New_York:20250524T200000
DTEND;TZID=America/New_York:20250524T230000
DTSTAMP:20260424T102817
CREATED:20250114T195541Z
LAST-MODIFIED:20250505T234439Z
UID:10005475-1748116800-1748127600@orlando.bluemartini.com
SUMMARY:The Electric Xperience Trio
DESCRIPTION:
URL:http://orlando.bluemartini.com/event/the-electric-xperience-trio/2025-05-24/
LOCATION:Blue Martini – Orlando\, 9101 International Dr #1182\, Orlando\, FL\, 32819\, United States
ORGANIZER;CN="Blue Martini":MAILTO:Victorv@bluemartini.com
GEO:28.43239;-81.47023
X-APPLE-STRUCTURED-LOCATION;VALUE=URI;X-ADDRESS=Blue Martini – Orlando 9101 International Dr #1182 Orlando FL 32819 United States;X-APPLE-RADIUS=500;X-TITLE=9101 International Dr #1182:geo:-81.47023,28.43239
END:VEVENT
BEGIN:VEVENT
DTSTART;TZID=America/New_York:20250523T200000
DTEND;TZID=America/New_York:20250523T230000
DTSTAMP:20260424T102817
CREATED:20250114T194458Z
LAST-MODIFIED:20250505T234332Z
UID:10005474-1748030400-1748041200@orlando.bluemartini.com
SUMMARY:24k Trio
DESCRIPTION:
URL:http://orlando.bluemartini.com/event/24k-trio/2025-05-23/
LOCATION:Blue Martini – Orlando\, 9101 International Dr #1182\, Orlando\, FL\, 32819\, United States
ORGANIZER;CN="Blue Martini":MAILTO:Victorv@bluemartini.com
GEO:28.43239;-81.47023
X-APPLE-STRUCTURED-LOCATION;VALUE=URI;X-ADDRESS=Blue Martini – Orlando 9101 International Dr #1182 Orlando FL 32819 United States;X-APPLE-RADIUS=500;X-TITLE=9101 International Dr #1182:geo:-81.47023,28.43239
END:VEVENT
BEGIN:VEVENT
DTSTART;VALUE=DATE:20250520
DTEND;VALUE=DATE:20250522
DTSTAMP:20260424T102817
CREATED:20250505T233831Z
LAST-MODIFIED:20250505T233831Z
UID:10005469-1747699200-1747785600@orlando.bluemartini.com
SUMMARY:DJ ELIE ROK
DESCRIPTION:
URL:http://orlando.bluemartini.com/event/dj-elie-rok/2025-05-20/
LOCATION:Blue Martini – Orlando\, 9101 International Dr #1182\, Orlando\, FL\, 32819\, United States
ORGANIZER;CN="Blue Martini":MAILTO:Victorv@bluemartini.com
GEO:28.43239;-81.47023
X-APPLE-STRUCTURED-LOCATION;VALUE=URI;X-ADDRESS=Blue Martini – Orlando 9101 International Dr #1182 Orlando FL 32819 United States;X-APPLE-RADIUS=500;X-TITLE=9101 International Dr #1182:geo:-81.47023,28.43239
END:VEVENT
BEGIN:VEVENT
DTSTART;TZID=America/New_York:20250519T000000
DTEND;TZID=America/New_York:20250519T000000
DTSTAMP:20260424T102817
CREATED:20250114T200129Z
LAST-MODIFIED:20250505T233313Z
UID:10005467-1747612800-1747612800@orlando.bluemartini.com
SUMMARY:DRE MENDEZ
DESCRIPTION:
URL:http://orlando.bluemartini.com/event/dre-mendez/2025-05-19/
LOCATION:Blue Martini – Orlando\, 9101 International Dr #1182\, Orlando\, FL\, 32819\, United States
ORGANIZER;CN="Blue Martini":MAILTO:Victorv@bluemartini.com
GEO:28.43239;-81.47023
X-APPLE-STRUCTURED-LOCATION;VALUE=URI;X-ADDRESS=Blue Martini – Orlando 9101 International Dr #1182 Orlando FL 32819 United States;X-APPLE-RADIUS=500;X-TITLE=9101 International Dr #1182:geo:-81.47023,28.43239
END:VEVENT
BEGIN:VEVENT
DTSTART;TZID=America/New_York:20250517T200000
DTEND;TZID=America/New_York:20250517T230000
DTSTAMP:20260424T102817
CREATED:20250505T234213Z
LAST-MODIFIED:20250505T234213Z
UID:10005473-1747512000-1747522800@orlando.bluemartini.com
SUMMARY:Some Miles
DESCRIPTION:
URL:http://orlando.bluemartini.com/event/some-miles/
LOCATION:Blue Martini – Orlando\, 9101 International Dr #1182\, Orlando\, FL\, 32819\, United States
ORGANIZER;CN="Blue Martini":MAILTO:Victorv@bluemartini.com
GEO:28.43239;-81.47023
X-APPLE-STRUCTURED-LOCATION;VALUE=URI;X-ADDRESS=Blue Martini – Orlando 9101 International Dr #1182 Orlando FL 32819 United States;X-APPLE-RADIUS=500;X-TITLE=9101 International Dr #1182:geo:-81.47023,28.43239
END:VEVENT
BEGIN:VEVENT
DTSTART;TZID=America/New_York:20250515T190000
DTEND;TZID=America/New_York:20250515T230000
DTSTAMP:20260424T102817
CREATED:20250206T193043Z
LAST-MODIFIED:20250505T234109Z
UID:10005472-1747335600-1747350000@orlando.bluemartini.com
SUMMARY:N Fusion
DESCRIPTION:
URL:http://orlando.bluemartini.com/event/n-fusion/2025-05-15/
LOCATION:Blue Martini – Orlando\, 9101 International Dr #1182\, Orlando\, FL\, 32819\, United States
ORGANIZER;CN="Blue Martini":MAILTO:Victorv@bluemartini.com
GEO:28.43239;-81.47023
X-APPLE-STRUCTURED-LOCATION;VALUE=URI;X-ADDRESS=Blue Martini – Orlando 9101 International Dr #1182 Orlando FL 32819 United States;X-APPLE-RADIUS=500;X-TITLE=9101 International Dr #1182:geo:-81.47023,28.43239
END:VEVENT
BEGIN:VEVENT
DTSTART;TZID=America/New_York:20250509T200000
DTEND;TZID=America/New_York:20250509T230000
DTSTAMP:20260424T102817
CREATED:20241118T213340Z
LAST-MODIFIED:20250505T224958Z
UID:10004933-1746820800-1746831600@orlando.bluemartini.com
SUMMARY:LOVESTRUCK ROBOT
DESCRIPTION:
URL:http://orlando.bluemartini.com/event/lovestruck-robot-trio/2025-05-09/
LOCATION:Blue Martini – Orlando\, 9101 International Dr #1182\, Orlando\, FL\, 32819\, United States
ORGANIZER;CN="Blue Martini":MAILTO:Victorv@bluemartini.com
GEO:28.43239;-81.47023
X-APPLE-STRUCTURED-LOCATION;VALUE=URI;X-ADDRESS=Blue Martini – Orlando 9101 International Dr #1182 Orlando FL 32819 United States;X-APPLE-RADIUS=500;X-TITLE=9101 International Dr #1182:geo:-81.47023,28.43239
END:VEVENT
BEGIN:VEVENT
DTSTART;TZID=America/New_York:20250507T200000
DTEND;TZID=America/New_York:20250507T230000
DTSTAMP:20260424T102817
CREATED:20250228T232319Z
LAST-MODIFIED:20250505T224442Z
UID:10004927-1746648000-1746658800@orlando.bluemartini.com
SUMMARY:Red Mint Duo
DESCRIPTION:
URL:http://orlando.bluemartini.com/event/red-mint-duo/2025-05-07/
LOCATION:Blue Martini – Orlando\, 9101 International Dr #1182\, Orlando\, FL\, 32819\, United States
ORGANIZER;CN="Blue Martini":MAILTO:Victorv@bluemartini.com
GEO:28.43239;-81.47023
X-APPLE-STRUCTURED-LOCATION;VALUE=URI;X-ADDRESS=Blue Martini – Orlando 9101 International Dr #1182 Orlando FL 32819 United States;X-APPLE-RADIUS=500;X-TITLE=9101 International Dr #1182:geo:-81.47023,28.43239
END:VEVENT
BEGIN:VEVENT
DTSTART;VALUE=DATE:20250419
DTEND;VALUE=DATE:20250420
DTSTAMP:20260424T102817
CREATED:20250409T223532Z
LAST-MODIFIED:20250409T223532Z
UID:10004920-1745020800-1745107199@orlando.bluemartini.com
SUMMARY:SCOTTY B
DESCRIPTION:
URL:http://orlando.bluemartini.com/event/scotty-b/
LOCATION:Blue Martini – Orlando\, 9101 International Dr #1182\, Orlando\, FL\, 32819\, United States
ORGANIZER;CN="Blue Martini":MAILTO:Victorv@bluemartini.com
GEO:28.43239;-81.47023
X-APPLE-STRUCTURED-LOCATION;VALUE=URI;X-ADDRESS=Blue Martini – Orlando 9101 International Dr #1182 Orlando FL 32819 United States;X-APPLE-RADIUS=500;X-TITLE=9101 International Dr #1182:geo:-81.47023,28.43239
END:VEVENT
BEGIN:VEVENT
DTSTART;VALUE=DATE:20250307
DTEND;VALUE=DATE:20250309
DTSTAMP:20260424T102817
CREATED:20250228T230945Z
LAST-MODIFIED:20250228T230945Z
UID:10004865-1741305600-1741478399@orlando.bluemartini.com
SUMMARY:GORGEOUS BY SOL CAFE
DESCRIPTION:
URL:http://orlando.bluemartini.com/event/gorgeous-by-sol-cafe/
LOCATION:Blue Martini – Orlando\, 9101 International Dr #1182\, Orlando\, FL\, 32819\, United States
ORGANIZER;CN="Blue Martini":MAILTO:Victorv@bluemartini.com
GEO:28.43239;-81.47023
X-APPLE-STRUCTURED-LOCATION;VALUE=URI;X-ADDRESS=Blue Martini – Orlando 9101 International Dr #1182 Orlando FL 32819 United States;X-APPLE-RADIUS=500;X-TITLE=9101 International Dr #1182:geo:-81.47023,28.43239
END:VEVENT
BEGIN:VEVENT
DTSTART;TZID=America/New_York:20250222T200000
DTEND;TZID=America/New_York:20250222T230000
DTSTAMP:20260424T102817
CREATED:20250114T194547Z
LAST-MODIFIED:20250206T185113Z
UID:10004824-1740254400-1740265200@orlando.bluemartini.com
SUMMARY:Pacific Rush Trio
DESCRIPTION:
URL:http://orlando.bluemartini.com/event/pacific-rush-trio/2025-02-22/
LOCATION:Blue Martini – Orlando\, 9101 International Dr #1182\, Orlando\, FL\, 32819\, United States
ORGANIZER;CN="Blue Martini":MAILTO:Victorv@bluemartini.com
GEO:28.43239;-81.47023
X-APPLE-STRUCTURED-LOCATION;VALUE=URI;X-ADDRESS=Blue Martini – Orlando 9101 International Dr #1182 Orlando FL 32819 United States;X-APPLE-RADIUS=500;X-TITLE=9101 International Dr #1182:geo:-81.47023,28.43239
END:VEVENT
BEGIN:VEVENT
DTSTART;VALUE=DATE:20250209
DTEND;VALUE=DATE:20250210
DTSTAMP:20260424T102817
CREATED:20250206T185405Z
LAST-MODIFIED:20250206T185405Z
UID:10004828-1739059200-1739145599@orlando.bluemartini.com
SUMMARY:SUPER BOWL
DESCRIPTION:
URL:http://orlando.bluemartini.com/event/super-bowl/
LOCATION:Blue Martini – Orlando\, 9101 International Dr #1182\, Orlando\, FL\, 32819\, United States
ORGANIZER;CN="Blue Martini":MAILTO:Victorv@bluemartini.com
GEO:28.43239;-81.47023
X-APPLE-STRUCTURED-LOCATION;VALUE=URI;X-ADDRESS=Blue Martini – Orlando 9101 International Dr #1182 Orlando FL 32819 United States;X-APPLE-RADIUS=500;X-TITLE=9101 International Dr #1182:geo:-81.47023,28.43239
END:VEVENT
BEGIN:VEVENT
DTSTART;VALUE=DATE:20250207
DTEND;VALUE=DATE:20250208
DTSTAMP:20260424T102817
CREATED:20250206T184936Z
LAST-MODIFIED:20250206T184936Z
UID:10004822-1738886400-1738972799@orlando.bluemartini.com
SUMMARY:GORGEOUS FRIDAY
DESCRIPTION:
URL:http://orlando.bluemartini.com/event/gorgeous-friday/
LOCATION:Blue Martini – Orlando\, 9101 International Dr #1182\, Orlando\, FL\, 32819\, United States
ORGANIZER;CN="Blue Martini":MAILTO:Victorv@bluemartini.com
GEO:28.43239;-81.47023
X-APPLE-STRUCTURED-LOCATION;VALUE=URI;X-ADDRESS=Blue Martini – Orlando 9101 International Dr #1182 Orlando FL 32819 United States;X-APPLE-RADIUS=500;X-TITLE=9101 International Dr #1182:geo:-81.47023,28.43239
END:VEVENT
BEGIN:VEVENT
DTSTART;TZID=America/New_York:20241123T200000
DTEND;TZID=America/New_York:20241123T230000
DTSTAMP:20260424T102817
CREATED:20241118T213145Z
LAST-MODIFIED:20241118T213145Z
UID:10004794-1732392000-1732402800@orlando.bluemartini.com
SUMMARY:VZN TRIO
DESCRIPTION:
URL:http://orlando.bluemartini.com/event/vzn-trio/
LOCATION:Blue Martini – Orlando\, 9101 International Dr #1182\, Orlando\, FL\, 32819\, United States
ORGANIZER;CN="Blue Martini":MAILTO:Victorv@bluemartini.com
GEO:28.43239;-81.47023
X-APPLE-STRUCTURED-LOCATION;VALUE=URI;X-ADDRESS=Blue Martini – Orlando 9101 International Dr #1182 Orlando FL 32819 United States;X-APPLE-RADIUS=500;X-TITLE=9101 International Dr #1182:geo:-81.47023,28.43239
END:VEVENT
END:VCALENDAR